BEGIN:VCALENDAR
VERSION:2.0
PRODID:-//EuProGigant - ECPv6.0.13//NONSGML v1.0//EN
CALSCALE:GREGORIAN
METHOD:PUBLISH
X-WR-CALNAME:EuProGigant
X-ORIGINAL-URL:https://euprogigant.com
X-WR-CALDESC:Veranstaltungen für EuProGigant
REFRESH-INTERVAL;VALUE=DURATION:PT1H
X-Robots-Tag:noindex
X-PUBLISHED-TTL:PT1H
BEGIN:VTIMEZONE
TZID:Europe/Vienna
BEGIN:DAYLIGHT
TZOFFSETFROM:+0100
TZOFFSETTO:+0200
TZNAME:CEST
DTSTART:20230326T010000
END:DAYLIGHT
BEGIN:STANDARD
TZOFFSETFROM:+0200
TZOFFSETTO:+0100
TZNAME:CET
DTSTART:20231029T010000
END:STANDARD
BEGIN:DAYLIGHT
TZOFFSETFROM:+0100
TZOFFSETTO:+0200
TZNAME:CEST
DTSTART:20240331T010000
END:DAYLIGHT
BEGIN:STANDARD
TZOFFSETFROM:+0200
TZOFFSETTO:+0100
TZNAME:CET
DTSTART:20241027T010000
END:STANDARD
END:VTIMEZONE
BEGIN:VEVENT
DTSTART;TZID=Europe/Vienna:20230314T093000
DTEND;TZID=Europe/Vienna:20230315T170000
DTSTAMP:20260424T131123
CREATED:20230118T150457Z
LAST-MODIFIED:20230303T104941Z
UID:5548-1678786200-1678899600@euprogigant.com
SUMMARY:Market-X
DESCRIPTION:Die von Gaia-X organisierte Market-X Conference & Expo findet am 14. und 15. März 2023 in der schönen Stadt Wien statt und ist ein unschlagbares Networking-Event\, um die Gaia-X-Standards zu entdecken und zu verstehen\, spannende Gaia-X-Communities zu gründen und an Projekten der X-Industrie teilzunehmen. Die Teilnahme an dieser Veranstaltung ist sehr wertvoll\, da Sie ein tiefes Verständnis der Gaia-X-Projekte\, HUBs\, Verticals und Leuchtturmprojekte erlangen können. \n  \nEuProGigant wird von A1 Digital\, concircle\, deltaDAO\, EIT Manufacturing und TU Wien vertreten.
URL:https://euprogigant.com/event/market-x/
LOCATION:Aula der Wissenschaften\, Wollzeile 27A\, Wien\, 1010\, Österreich
CATEGORIES:GAIA-X,Konferenz,Messe
ATTACH;FMTTYPE=image/png:https://euprogigant.com/wp-content/uploads/2023/01/market-x-graphic.png
END:VEVENT
BEGIN:VEVENT
DTSTART;TZID=Europe/Vienna:20240606T100000
DTEND;TZID=Europe/Vienna:20240606T190000
DTSTAMP:20260424T131123
CREATED:20240619T115429Z
LAST-MODIFIED:20240619T115556Z
UID:7438-1717668000-1717700400@euprogigant.com
SUMMARY:Manufacturing Day 2024
DESCRIPTION:EuProGigant freut sich\, beim Manufacturing Day 2024 dabei zu sein!\nDer Manufacturing Day 2024 ist die führende Veranstaltung für die Fertigungsindustrie während der ViennaUP’24\, dem größten dezentralen Startup-Festival in Europa. Zum vierten Mal in Folge bringt das EIT Manufacturing Startups\, wichtige Industrieakteure\, Investoren\, Forscher und Experten zusammen\, um die Errungenschaften und das Potenzial der europäischen Fertigungsindustrie zu feiern. \nIm Jahr 2024 steht die Veranstaltung unter dem Motto „The Speed of Innovation“\, um die Geschwindigkeit der technologischen Entwicklungen und Innovationsaktivitäten in der globalen Fertigungsindustrie hervorzuheben. Renommierte Referenten aus der ganzen Welt werden Einblicke in Mechanismen und Ansätze geben\, die es Unternehmen ermöglichen\, ihre Innovationsprozesse zu beschleunigen und so einen Wettbewerbsvorteil zu schaffen. \nZiel des Manufacturing Day ist es\, die neuesten Innovationen und Technologien zu präsentieren\, die diesen Wandel vorantreiben\, und die nächste Generation von Fertigungsfachleuten zu inspirieren\, eine aktive Rolle bei der Gestaltung der Zukunft der Branche zu übernehmen. Die Veranstaltung bietet ein vielfältiges und reichhaltiges Programm für und mit Start-ups in der Fertigungsindustrie und ist eine Plattform für Branchenvertreter zum Ideenaustausch und zur Vernetzung. \nDas österreichisch-deutsche Forschungsprojekt EuProGigant wird mit einem Stand in der Expo-Area des Manufacturing Day 2023 vertreten sein. Besuchen Sie unseren Stand am Manufacturing Day\, um mehr über unser Projekt zu lernen. Unsere anwesenden ProjektpartnerInnen informieren Sie gern über den aktuellen Stand des Projektes EuProGigant sowie über unsere Use Cases und die bereits erzielten Fortschritte und Meilensteine.  \nWas steht am Programm des Manufacturing Day 2024!\nWir freuen uns auf den Keynote Speaker Dr. Steven J. Spear\, Autor und Professor am Massachusetts Institute of Technology (MIT) Sloan School of Management! \nDer Hauptvortrag von MIT Senior Lecturer Steven Spear wird sich auf die entscheidende Rolle von Agilität und Anpassungsfähigkeit für Unternehmen konzentrieren\, die danach streben\, ihre Konkurrenten bei der Entwicklung und Bereitstellung von Lösungen für komplexe Herausforderungen zu übertreffen. Wie in seinem Buch „Wiring the Winning Organization“ beschrieben\, wird Spear das Paradoxon erörtern\, dass bestimmte Unternehmen mit weniger Aufwand und Ressourcenverbrauch mehr Wert schaffen. Spear wird drei wesentliche Mechanismen skizzieren\, die von diesen erfolgreichen Unternehmen eingesetzt werden. Erstens: „Verlangsamung“ verwandelt die Bedingungen von reaktivem\, impulsivem Denken in überlegtes\, generatives Problemlösen. Zweitens: Die „Vereinfachung“ zerlegt große\, komplexe Probleme in handlichere Komponenten. Drittens: „Amplifikation“ hebt bestehende Probleme und erfolgreiche Lösungen hervor. Durch die Förderung einer Kultur des „langsamen Denkens“\, die Vereinfachung von Herausforderungen und die Verstärkung der Bedeutung von Problemlösungen können Organisationen die sich entwickelnde Landschaft der Fertigungsindustrie mit größerer Effizienz und Effektivität bewältigen. \nIm Anschluss an die ersten Sitzungen werden Experten aus Politik\, Industrie und Forschung in speziellen Gesprächsrunden die wesentlichen Voraussetzungen und Rahmenbedingungen für Innovation erörtern. Die Veranstaltung wird zeigen\, welche Schlüsselrolle die internationale Zusammenarbeit mit Start-ups und technologisch führenden Unternehmen spielt\, um sowohl etablierte Großunternehmen als auch kleine und mittelständische Betriebe in die Lage zu versetzen\, ihre Innovationsanstrengungen zu verstärken. \nEin Höhepunkt der Veranstaltung wird der BoostUp! Startup-Pitching-Wettbewerb sein\, bei dem europäische Startups aus dem Bereich der industriellen Technologie ihre innovativen Lösungen einem globalen Publikum und einer Expertenjury vorstellen werden. \nBeim Manufacturing Day 2024 liegt der Schwerpunkt erneut auf der Vernetzung der aktiven Akteure in der Fertigungsindustrie\, um starke Partnerschaften und Kooperationen zu initiieren und Innovationen voranzutreiben. In unserem Matchmaking-Bereich können Sie während der Networking-Sessions der Veranstaltung persönliche 1:1-Gespräche vereinbaren. Die Buchungsphase beginnt am 1. Mai 2024. \nWir freuen uns\, einen besonderen EuProGigant Award beim BoostUp! East 2024 Startup Pitching Bewerb zu vergeben! \nBoostUp! ist das Flaggschiff des Pitching-Wettbewerbs von EIT Manufacturing. Sein regionales Pendant\, BoostUp! East\, nehmen Top-Startups aus Österreich\, Kroatien\, der Tschechischen Republik\, Ungarn\, Serbien\, der Slowakei und Slowenien teil. Unser Hauptziel ist es\, Startups bei der Internationalisierung und Skalierung ihres Geschäfts in ganz Europa zu unterstützen. \nUnter dem diesjährigen Motto „Data-driven Manufacturing“ widmet sich BoostUp! East 2024 der Unterstützung industrieller Lösungen gewidmet\, die in einem der folgenden Technologiebereiche tätig sind: \n\nSimulation und fortschrittliche Engineering-Tools\nIndustrielle VR/AR\nIndustrielle Robotik\nLogistik-Technologie\nPrädiktive Wartung\nFortgeschrittene Sensoren\nFortschrittliche Detektion (IR/Noise/etc.)\nIndustrielle Cybersicherheit\nKonnektivität und IoT-Infrastruktur\nDatenanalytik/AI\nDigitale Zwillinge\n\nMit unserem Sonderpreis beim BoostUp! East 2024 im Rahmen des Manufacturing Day unterstützt EuProGigant Startups bei der Internationalisierung und Skalierung ihrer datengesteuerten Geschäftsmodelle und ermöglicht so die Zusammenarbeit zwischen den Akteuren der Fertigungsindustrie in ganz Europa. Der EuProGigant Award ist der Unterstützung von Lösungen gewidmet\, die zum Aufbau von föderierten Datenaustauschdiensten in einem Manufacturing Data Ecosystem beitragen. \nDie sich bewerbenden Startps werden nach dem Innovationsgrad ihrer vorgestellten Lösung und ihrem Potenzial bewertet\, Datenwertschöpfungsketten zu ermöglichen\, die zur Wertschöpfung für Daten(dienst)anbieter oder -verbraucher in Produktionsökosystemen beitragen. \nDie Gewinner des EuProGigant Award erhalten: \n1. Platz: \n\nGeldpreis in Höhe von 5.000 EUR\nMaßgeschneidertes Paket zur Unterstützung von Wachstum und Service durch EIT Manufacturing\nGaia-X-Mitgliedschaft für ein Jahr\n\n2. Platz:  \n\nMaßgeschneidertes Paket zur Unterstützung von Wachstum und Service durch EIT Manufacturing\nGaia-X-Mitgliedschaft für ein Jahr\n\n3. Platz: \n\nMaßgeschneidertes Paket zur Unterstützung von Wachstum und Service durch EIT Manufacturing\nGaia-X-Mitgliedschaft für ein Jahr\n\nJury für den EuProGigant Award: \n\nWolfgang Kniejski\, Senior Project Manager\, EIT Manufacturing East\nRoland Fadrany\, Chief Operating Officer\, Gaia-X Association for Data and Cloud (AISBL)\nMartina Malakova\, Coordinator\, Gaia-X Hub Slovakia\n\nNach der Veranstaltung haben Sie außerdem die Möglichkeit\, Online-Treffen mit anderen Teilnehmern zu vereinbaren. Die Teilnahme an dieser Veranstaltung ist kostenlos. Besuchen Sie uns in Wien! Die Veranstaltung findet nur vor Ort statt! \n 
URL:https://euprogigant.com/event/manufacturing-day-2024/
LOCATION:Aula der Wissenschaften\, Wollzeile 27A\, Wien\, 1010\, Österreich
CATEGORIES:EuProGigant,Konferenz
ATTACH;FMTTYPE=image/png:https://euprogigant.com/wp-content/uploads/2024/06/Manufacturing-Day-1920x1080-1.png
END:VEVENT
END:VCALENDAR